Workbook

Sheet 預算表
A1: 115年度高等教育深耕計畫 預算表
A3: 分類計畫A-教學創新精進： 培育技術素養雙翼，成就跨域服務人才
A4: 子計畫：A3培育學生就業能力—整合職能課程，完備職涯戰力。
A6: 經費項目 | C6: 本次活動預算金額 | I6: 備註 | K6: 經費說明
C7: 補助款 | F7: 配合款
C8: 單價 | D8: 數量 | E8: 小計 | F8: 單價 | G8: 數量 | H8: 小計
A9: 業務費 | B9: 講座鐘點費(外聘) | E9: =C9*D9 -> 0 | H9: =F9*G9 -> 0 | I9: Ex:2000*堂數 | K9: 講座鐘點費(外聘)2000人/堂。
B10: 講座鐘點費(內聘) | E10: =C10*D10 -> 0 | H10: =F10*G10 -> 0 | I10: Ex:1000*節數 | K10: 講座鐘點費(內聘)1000人/堂。
B11: 工讀費 | E11: =C11*D11 -> 0 | H11: =F11*G11 -> 0 | I11: Ex:190*小時 | K11: 協助執行課程活動工讀費，工讀人力以不超過參加人數10%編列，每小時190元並核實支應。
B12: 勞保 | E12: =C12*D12 -> 0 | H12: =F12*G12 -> 0 | I12: 工讀費之勞保費。 | K12: 工讀費之勞保費。
B13: 勞工退休金 | E13: =C13*D13 -> 0 | H13: =F13*G13 -> 0 | I13: 工讀費之勞工退休金 | K13: 工讀費之勞工退休金
B14: 職災(配合款支應) | E14: =C14*D14 -> 0 | H14: =F14*G14 -> 0 | I14: 工讀費之勞保職災(配合款支應) | K14: 工讀費之勞保職災(配合款支應)
B15: 助學金 | E15: =C15*D15 -> 0 | H15: =F15*G15 -> 0
B16: 出席費 | E16: =C16*D16 -> 0 | H16: =F16*G16 -> 0 | I16: Ex:辦理活動專家、學者出席費用。 2000*人數 | K16: 專家座談活動出席費，每位2000元。
B17: 評審費 | E17: =C17*D17 -> 0 | H17: =F17*G17 -> 0 | I17: 協助審查專題競賽作品、教材審查，提案審查等費用。1. 按字計酬：每千字中文200元，外文250元。2. 按件計酬：中文每件810元，外文每件1,220元。 Ex:810元*10份 | K17: 協助審查專題競賽作品、教材審查，提案審查等費用。1. 按字計酬：每千字中文200元，外文250元。2. 按件計酬：中文每件810元，外文每件1,220元。
B18: 補充保費 | E18: =C18*D18 -> 0 | H18: =F18*G18 -> 0 | I18: 講座鐘點費、工讀費、審查費及出席費之依據比例提撥全民健保補充保費。2.11% | K18: 講座鐘點費、工讀費、審查費及出席費之依據比例提撥全民健保補充保費。2.11%
B19: 委辦費 | E19: =C19*D19 -> 0 | H19: =F19*G19 -> 0
B20: 膳宿費 | E20: =C20*D20 -> 0 | H20: =F20*G20 -> 0 | I20: Ex:半天活動餐,參與人數 80元*人數 | K20: 競賽、參訪、講座分享會等活動膳食費。 午、晚餐每餐單價須於100元範圍內供應、每人每日膳費上限為250元。 辦理期程第1天(含1日活動)不提供早餐，1日膳費以200元為單價編列。
B21: 印刷費 | E21: =C21*D21 -> 0 | H21: =F21*G21 -> 0 | I21: Ex:海報 100元*2張 講義1元*10本*頁數 | K21: 海報、作品、講義、成果報告等。
B22: 短程差旅費 | E22: =C22*D22 -> 0 | H22: =F22*G22 -> 0 | I22: Ex:說明差旅起訖 搭乘交通工具 | K22: 參加校外研討會及計畫執行所需之差旅運費。
B23: 國內旅費、短程車資、運費 | E23: =C23*D23 -> 0 | H23: =F23*G23 -> 0 | I23: Ex:辦理活動(育達至台北)大型遊覽車 | K23: 校外研討會、產業實務參訪活動之車資。
B24: 保險費 | E24: =C24*D24 -> 0 | H24: =F24*G24 -> 0 | I24: Ex:旅遊平安保險 33元*人數 | K24: 辦理校外研討會、產業實務參訪活動之保險費。保險費每位33元。
B25: 設備使用費 | E25: =C25*D25 -> 0 | H25: =F25*G25 -> 0 | I25: 如為一批，請附上細項 (品名、單價、數量) | K25: 執行計畫，所分攤之電腦、儀器設備或軟體使用費，核實報支。
B26: 材料費 | E26: =C26*D26 -> 0 | H26: =F26*G26 -> 0 | I26: 如為一批，請附上細項 (品名、單價、數量) | K26: 課程執行計畫所需購置之材料等費用，核實報支。
B27: 獎勵金 | E27: =C27*D27 -> 0 | H27: =F27*G27 -> 0
B28: 國外差旅費 | E28: =C28*D28 -> 0 | H28: =F28*G28 -> 0 | I28: Ex:說明差旅起訖
B29: 場地布置費 | E29: =C29*D29 -> 0 | H29: =F29*G29 -> 0
B30: 獎盃、錦旗 | E30: =C30*D30 -> 0 | H30: =F30*G30 -> 0
B31: 小 計 | E31: =SUM(E9:E30) -> 0 | H31: =SUM(H9:H30) -> 0
A32: 雜支 | B32: 雜支 | E32: =C32*D32 -> 0 | H32: =F32*G32 -> 0 | I32: 如:文具用品、紙張、錄音帶、資訊耗材、資料夾、郵資、誤餐費、資訊週邊用品等屬之。 | K32: 如:文具用品、紙張、錄音帶、資訊耗材、資料夾、郵資、誤餐費、資訊週邊用品等屬之。
A33: 合 計 | E33: =E31+E32 -> 0 | H33: =H31+H32 -> 0
A34: 總 計 | C34: =E33+H33 -> 0
A36: 經辦人： | E36: 單位主管：
A38: 計畫辦公室：

Sheet 結算表
A1: 115年度高等教育深耕計畫 結算表
A3: =預算表!A3 -> 分類計畫A-教學創新精進： 培育技術素養雙翼，成就跨域服務人才
A4: =預算表!A4 -> 子計畫：A3培育學生就業能力—整合職能課程，完備職涯戰力。
H5: 傳票號碼：
A6: 活動名稱 | G6: 活動日期
A7: 活動地點 | G7: 參與活動 人數
A8: 經費來源 | C8: 補助款 | D8: 預算金額 | E8: =F36 -> 0 | G8: 核銷金額 | H8: =H36 -> 0
C9: 配合款 | D9: 預算金額 | E9: =G36 -> 0 | G9: 核銷金額 | H9: =I36 -> 0
A10: 經費結算情形：(若預算金額與實際支出金額不符或有餘額請於備註欄註明原因)
A11: 編號 | C11: 經費項目 | F11: 預算金額 | H11: 實支金額 | J11: 備註
F12: 補助款 | G12: 配合款 | H12: 補助款 | I12: 配合款
A13: 1 | B13: 業務費 | C13: 講座鐘點費(外聘) | F13: =預算表!E9 -> 0 | G13: =預算表!H9 -> 0
A14: 2 | C14: 講座鐘點費(內聘) | F14: =預算表!E10 -> 0 | G14: =預算表!H10 -> 0
A15: 3 | C15: 工讀費 | F15: =預算表!E11 -> 0 | G15: =預算表!H11 -> 0
A16: 4 | C16: 勞保 | F16: =預算表!E12 -> 0 | G16: =預算表!H12 -> 0
A17: 5 | C17: 勞工退休金 | F17: =預算表!E13 -> 0 | G17: =預算表!H13 -> 0
A18: 6 | C18: 職災(配合款支應) | F18: =預算表!E14 -> 0 | G18: =預算表!H14 -> 0
A19: 7 | C19: 助學金 | F19: =預算表!E15 -> 0 | G19: =預算表!H15 -> 0
A20: 8 | C20: 出席費 | F20: =預算表!E16 -> 0 | G20: =預算表!H16 -> 0
A21: 9 | C21: 評審費 | F21: =預算表!E17 -> 0 | G21: =預算表!H17 -> 0
A22: 10 | C22: 補充保費 | F22: =預算表!E18 -> 0 | G22: =預算表!H18 -> 0
A23: 11 | C23: 委辦費 | F23: =預算表!E19 -> 0 | G23: =預算表!H19 -> 0
A24: 12 | C24: 膳宿費 | F24: =預算表!E20 -> 0 | G24: =預算表!H20 -> 0
A25: 13 | C25: 印刷費 | F25: =預算表!E21 -> 0 | G25: =預算表!H21 -> 0
... A34: 24 | C34: 獎盃、錦旗 | F34: =預算表!E30 -> 0 | G34: =預算表!H30 -> 0
A35: 23 | B35: 雜支 | C35: 雜支 | F35: =預算表!E32 -> 0 | G35: =預算表!H32 -> 0
A36: 合 計 | F36: =SUM(F13:F35) -> 0 | G36: =SUM(G13:G35) -> 0 | H36: =SUM(H13:H35) -> 0 | I36: =SUM(I13:I35) -> 0
A37: 總計 | F37: =SUM(F36:G36) -> 0 | H37: =SUM(H36:I36) -> 0
A38: 餘 額 | F38: =F37-H37 -> 0
A40: 經辦人： | E40: 單位主管： | I40: 會計室：
A42: 計畫辦公室：

Sheet 工作表1
A1: 分項計畫 | B1: 子計畫
A2: 總計畫：建立管考機制 | B2: 子計畫：00總計畫
A3: 分類計畫A-教學創新精進： 培育技術素養雙翼，成就跨域服務人才 | B3: 子計畫：A1建置跨域學習共構校園—跨域跨界整合，產學訓共育才。
A4: 分類計畫B-善盡社會責任： 打造綠色永續大學，深化社區實踐場域 | B4: 子計畫：A2陶鑄學生基礎永續學習能力—深耕素養核心，植覺自主學習。
A5: 分類計畫C-產學合作連結： 營造產學鏈結校園、聚焦特色產業研發 | B5: 子計畫：A3培育學生就業能力—整合職能課程，完備職涯戰力。
A6: 分類計畫D-提升高教公共性： 完善就學協助機制，有效促進社會流動 | B6: 子計畫：A4發展創新教學模式—實踐問題導向，創意創業啟航。
A7: 分類計畫E-推動校務研究： 完善校務檢視機制，精準支持運作決策 | B7: 子計畫：A5培育核心產業智慧應用與STEM人才—聚焦智慧應用，普升STEM知能。
B8: 子計畫：A6建構國際友善學習環境—打造國際育達，共育全球職人。
B9: 子計畫：B1零碳校園環境永續。
B10: 子計畫：B2社區關懷地方創生。
B11: 子計畫：B3族群融合共學共好。
B12: 子計畫：C1強化產學親善校園鏈結、建置特色技術研發中心。
B13: 子計畫：C2深耕產學合作、落實社會實踐。
B14: 子計畫：C3鏈結研發成果與三創育苗、提升師生創業能量養。
B15: 子計畫：D1無憂就學—完善經濟文化不利學生輔導，促進包容平等多元。
B16: 子計畫：D2社區共學—開放學習資源，落實終身學習。
B17: 子計畫：D3良心辦學—定期校務資訊公開，展現辦學成效。
B18: 子計畫：E1確保教學品質與學生學習成效。
B19: 子計畫：E2檢核大學社會責任影響力。
... B21: 子計畫：E4強化校務永續運作。
B22: =C25&D25
